BEGIN:VCALENDAR
VERSION:2.0
PRODID:-//Quick Start Weight Loss & Wellness Center - ECPv6.15.20//NONSGML v1.0//EN
CALSCALE:GREGORIAN
METHOD:PUBLISH
X-WR-CALNAME:Quick Start Weight Loss & Wellness Center
X-ORIGINAL-URL:https://quickstartmedweightloss.com
X-WR-CALDESC:Events for Quick Start Weight Loss & Wellness Center
REFRESH-INTERVAL;VALUE=DURATION:PT1H
X-Robots-Tag:noindex
X-PUBLISHED-TTL:PT1H
BEGIN:VTIMEZONE
TZID:UTC
BEGIN:STANDARD
TZOFFSETFROM:+0000
TZOFFSETTO:+0000
TZNAME:UTC
DTSTART:20240101T000000
END:STANDARD
END:VTIMEZONE
BEGIN:VEVENT
DTSTART;TZID=UTC:20251230T100000
DTEND;TZID=UTC:20251230T173000
DTSTAMP:20260419T234204
CREATED:20251201T212148Z
LAST-MODIFIED:20251201T212148Z
UID:4456-1767088800-1767115800@quickstartmedweightloss.com
SUMMARY:Center Open
DESCRIPTION:
URL:https://quickstartmedweightloss.com/event/center-open-635/
END:VEVENT
END:VCALENDAR