BEGIN:VCALENDAR
VERSION:2.0
PRODID:-//Quick Start Weight Loss & Wellness Center - ECPv6.15.20//NONSGML v1.0//EN
CALSCALE:GREGORIAN
METHOD:PUBLISH
X-WR-CALNAME:Quick Start Weight Loss & Wellness Center
X-ORIGINAL-URL:https://quickstartmedweightloss.com
X-WR-CALDESC:Events for Quick Start Weight Loss & Wellness Center
REFRESH-INTERVAL;VALUE=DURATION:PT1H
X-Robots-Tag:noindex
X-PUBLISHED-TTL:PT1H
BEGIN:VTIMEZONE
TZID:UTC
BEGIN:STANDARD
TZOFFSETFROM:+0000
TZOFFSETTO:+0000
TZNAME:UTC
DTSTART:20240101T000000
END:STANDARD
END:VTIMEZONE
BEGIN:VEVENT
DTSTART;VALUE=DATE:20250801
DTEND;VALUE=DATE:20250802
DTSTAMP:20260420T053433
CREATED:20250729T151316Z
LAST-MODIFIED:20250729T151316Z
UID:4252-1754006400-1754092799@quickstartmedweightloss.com
SUMMARY:CLOSED
DESCRIPTION:
URL:https://quickstartmedweightloss.com/event/closed-22/
END:VEVENT
BEGIN:VEVENT
DTSTART;TZID=UTC:20250804T090000
DTEND;TZID=UTC:20250804T140000
DTSTAMP:20260420T053433
CREATED:20250729T151441Z
LAST-MODIFIED:20250729T151441Z
UID:4254-1754298000-1754316000@quickstartmedweightloss.com
SUMMARY:New Patients/Injections
DESCRIPTION:
URL:https://quickstartmedweightloss.com/event/new-patients-injections/
END:VEVENT
BEGIN:VEVENT
DTSTART;TZID=UTC:20250805T100000
DTEND;TZID=UTC:20250805T173000
DTSTAMP:20260420T053433
CREATED:20250729T151711Z
LAST-MODIFIED:20250729T151711Z
UID:4262-1754388000-1754415000@quickstartmedweightloss.com
SUMMARY:Center Open
DESCRIPTION:
URL:https://quickstartmedweightloss.com/event/center-open-569/
END:VEVENT
BEGIN:VEVENT
DTSTART;TZID=UTC:20250806T100000
DTEND;TZID=UTC:20250806T130000
DTSTAMP:20260420T053433
CREATED:20250729T151751Z
LAST-MODIFIED:20250729T151751Z
UID:4264-1754474400-1754485200@quickstartmedweightloss.com
SUMMARY:Center Open
DESCRIPTION:
URL:https://quickstartmedweightloss.com/event/center-open-570/
END:VEVENT
BEGIN:VEVENT
DTSTART;TZID=UTC:20250807T130000
DTEND;TZID=UTC:20250807T173000
DTSTAMP:20260420T053433
CREATED:20250729T151833Z
LAST-MODIFIED:20250729T151833Z
UID:4266-1754571600-1754587800@quickstartmedweightloss.com
SUMMARY:Center Open
DESCRIPTION:
URL:https://quickstartmedweightloss.com/event/center-open-571/
END:VEVENT
BEGIN:VEVENT
DTSTART;TZID=UTC:20250808T120000
DTEND;TZID=UTC:20250808T173000
DTSTAMP:20260420T053433
CREATED:20250729T151912Z
LAST-MODIFIED:20250729T151912Z
UID:4268-1754654400-1754674200@quickstartmedweightloss.com
SUMMARY:Center Open
DESCRIPTION:
URL:https://quickstartmedweightloss.com/event/center-open-572/
END:VEVENT
BEGIN:VEVENT
DTSTART;TZID=UTC:20250811T090000
DTEND;TZID=UTC:20250811T140000
DTSTAMP:20260420T053433
CREATED:20250729T151514Z
LAST-MODIFIED:20250729T151514Z
UID:4256-1754902800-1754920800@quickstartmedweightloss.com
SUMMARY:New Patients/Injections
DESCRIPTION:
URL:https://quickstartmedweightloss.com/event/new-patients-injections-2/
END:VEVENT
BEGIN:VEVENT
DTSTART;TZID=UTC:20250812T100000
DTEND;TZID=UTC:20250812T173000
DTSTAMP:20260420T053433
CREATED:20250729T151954Z
LAST-MODIFIED:20250729T151954Z
UID:4270-1754992800-1755019800@quickstartmedweightloss.com
SUMMARY:Center Open
DESCRIPTION:
URL:https://quickstartmedweightloss.com/event/center-open-573/
END:VEVENT
BEGIN:VEVENT
DTSTART;TZID=UTC:20250813T090000
DTEND;TZID=UTC:20250813T130000
DTSTAMP:20260420T053433
CREATED:20250729T152026Z
LAST-MODIFIED:20250811T145844Z
UID:4272-1755075600-1755090000@quickstartmedweightloss.com
SUMMARY:Center Open
DESCRIPTION:
URL:https://quickstartmedweightloss.com/event/closed-23/
END:VEVENT
BEGIN:VEVENT
DTSTART;VALUE=DATE:20250814
DTEND;VALUE=DATE:20250815
DTSTAMP:20260420T053433
CREATED:20250729T152054Z
LAST-MODIFIED:20250729T152054Z
UID:4274-1755129600-1755215999@quickstartmedweightloss.com
SUMMARY:CLOSED
DESCRIPTION:
URL:https://quickstartmedweightloss.com/event/closed-24/
END:VEVENT
BEGIN:VEVENT
DTSTART;TZID=UTC:20250815T130000
DTEND;TZID=UTC:20250815T173000
DTSTAMP:20260420T053433
CREATED:20250729T152126Z
LAST-MODIFIED:20250811T145753Z
UID:4276-1755262800-1755279000@quickstartmedweightloss.com
SUMMARY:Center Open
DESCRIPTION:
URL:https://quickstartmedweightloss.com/event/closed-25/
END:VEVENT
BEGIN:VEVENT
DTSTART;TZID=UTC:20250818T090000
DTEND;TZID=UTC:20250818T140000
DTSTAMP:20260420T053433
CREATED:20250729T151555Z
LAST-MODIFIED:20250729T151555Z
UID:4258-1755507600-1755525600@quickstartmedweightloss.com
SUMMARY:New Patients/Injections
DESCRIPTION:
URL:https://quickstartmedweightloss.com/event/new-patients-injections-3/
END:VEVENT
BEGIN:VEVENT
DTSTART;VALUE=DATE:20250819
DTEND;VALUE=DATE:20250820
DTSTAMP:20260420T053433
CREATED:20250729T152223Z
LAST-MODIFIED:20250811T145654Z
UID:4278-1755561600-1755647999@quickstartmedweightloss.com
SUMMARY:CLOSED
DESCRIPTION:
URL:https://quickstartmedweightloss.com/event/center-open-574/
END:VEVENT
BEGIN:VEVENT
DTSTART;TZID=UTC:20250820T100000
DTEND;TZID=UTC:20250820T173000
DTSTAMP:20260420T053433
CREATED:20250729T152319Z
LAST-MODIFIED:20250811T145555Z
UID:4280-1755684000-1755711000@quickstartmedweightloss.com
SUMMARY:Center Open
DESCRIPTION:
URL:https://quickstartmedweightloss.com/event/center-open-575/
END:VEVENT
BEGIN:VEVENT
DTSTART;TZID=UTC:20250821T130000
DTEND;TZID=UTC:20250821T173000
DTSTAMP:20260420T053433
CREATED:20250729T152358Z
LAST-MODIFIED:20250729T152358Z
UID:4282-1755781200-1755797400@quickstartmedweightloss.com
SUMMARY:Center Open
DESCRIPTION:
URL:https://quickstartmedweightloss.com/event/center-open-576/
END:VEVENT
BEGIN:VEVENT
DTSTART;TZID=UTC:20250822T120000
DTEND;TZID=UTC:20250822T173000
DTSTAMP:20260420T053433
CREATED:20250729T152448Z
LAST-MODIFIED:20250729T152448Z
UID:4284-1755864000-1755883800@quickstartmedweightloss.com
SUMMARY:Center Open
DESCRIPTION:
URL:https://quickstartmedweightloss.com/event/center-open-577/
END:VEVENT
BEGIN:VEVENT
DTSTART;TZID=UTC:20250825T090000
DTEND;TZID=UTC:20250825T140000
DTSTAMP:20260420T053433
CREATED:20250729T151627Z
LAST-MODIFIED:20250729T151627Z
UID:4260-1756112400-1756130400@quickstartmedweightloss.com
SUMMARY:New Patients/Injections
DESCRIPTION:
URL:https://quickstartmedweightloss.com/event/new-patients-injections-4/
END:VEVENT
BEGIN:VEVENT
DTSTART;VALUE=DATE:20250826
DTEND;VALUE=DATE:20250827
DTSTAMP:20260420T053433
CREATED:20250729T152527Z
LAST-MODIFIED:20250811T145449Z
UID:4286-1756166400-1756252799@quickstartmedweightloss.com
SUMMARY:CLOSED
DESCRIPTION:
URL:https://quickstartmedweightloss.com/event/center-open-578/
END:VEVENT
BEGIN:VEVENT
DTSTART;TZID=UTC:20250827T100000
DTEND;TZID=UTC:20250827T173000
DTSTAMP:20260420T053433
CREATED:20250729T152616Z
LAST-MODIFIED:20250811T145351Z
UID:4288-1756288800-1756315800@quickstartmedweightloss.com
SUMMARY:Center Open
DESCRIPTION:
URL:https://quickstartmedweightloss.com/event/center-open-579/
END:VEVENT
BEGIN:VEVENT
DTSTART;TZID=UTC:20250828T130000
DTEND;TZID=UTC:20250828T173000
DTSTAMP:20260420T053433
CREATED:20250729T152658Z
LAST-MODIFIED:20250729T152658Z
UID:4290-1756386000-1756402200@quickstartmedweightloss.com
SUMMARY:Center Open
DESCRIPTION:
URL:https://quickstartmedweightloss.com/event/center-open-580/
END:VEVENT
BEGIN:VEVENT
DTSTART;TZID=UTC:20250829T120000
DTEND;TZID=UTC:20250829T190000
DTSTAMP:20260420T053433
CREATED:20250729T152731Z
LAST-MODIFIED:20250811T145312Z
UID:4292-1756468800-1756494000@quickstartmedweightloss.com
SUMMARY:Center Open
DESCRIPTION:
URL:https://quickstartmedweightloss.com/event/closed-26/
END:VEVENT
END:VCALENDAR