BEGIN:VCALENDAR
VERSION:2.0
PRODID:-//Quick Start Weight Loss & Wellness Center - ECPv6.15.20//NONSGML v1.0//EN
CALSCALE:GREGORIAN
METHOD:PUBLISH
X-WR-CALNAME:Quick Start Weight Loss & Wellness Center
X-ORIGINAL-URL:https://quickstartmedweightloss.com
X-WR-CALDESC:Events for Quick Start Weight Loss & Wellness Center
REFRESH-INTERVAL;VALUE=DURATION:PT1H
X-Robots-Tag:noindex
X-PUBLISHED-TTL:PT1H
BEGIN:VTIMEZONE
TZID:UTC
BEGIN:STANDARD
TZOFFSETFROM:+0000
TZOFFSETTO:+0000
TZNAME:UTC
DTSTART:20240101T000000
END:STANDARD
END:VTIMEZONE
BEGIN:VEVENT
DTSTART;VALUE=DATE:20250901
DTEND;VALUE=DATE:20250902
DTSTAMP:20260420T040631
CREATED:20250813T142041Z
LAST-MODIFIED:20250813T142041Z
UID:4312-1756684800-1756771199@quickstartmedweightloss.com
SUMMARY:Labor Day
DESCRIPTION:
URL:https://quickstartmedweightloss.com/event/labor-day/
END:VEVENT
BEGIN:VEVENT
DTSTART;TZID=UTC:20250902T100000
DTEND;TZID=UTC:20250902T173000
DTSTAMP:20260420T040631
CREATED:20250813T142122Z
LAST-MODIFIED:20250813T142122Z
UID:4314-1756807200-1756834200@quickstartmedweightloss.com
SUMMARY:Center Open
DESCRIPTION:
URL:https://quickstartmedweightloss.com/event/center-open-568/
END:VEVENT
BEGIN:VEVENT
DTSTART;TZID=UTC:20250904T100000
DTEND;TZID=UTC:20250904T173000
DTSTAMP:20260420T040631
CREATED:20250813T142318Z
LAST-MODIFIED:20250813T142318Z
UID:4316-1756980000-1757007000@quickstartmedweightloss.com
SUMMARY:Center Open
DESCRIPTION:
URL:https://quickstartmedweightloss.com/event/center-open-581/
END:VEVENT
BEGIN:VEVENT
DTSTART;TZID=UTC:20250905T100000
DTEND;TZID=UTC:20250905T173000
DTSTAMP:20260420T040631
CREATED:20250813T142353Z
LAST-MODIFIED:20250813T142353Z
UID:4318-1757066400-1757093400@quickstartmedweightloss.com
SUMMARY:Center Open
DESCRIPTION:
URL:https://quickstartmedweightloss.com/event/center-open-582/
END:VEVENT
BEGIN:VEVENT
DTSTART;TZID=UTC:20250908T100000
DTEND;TZID=UTC:20250908T130000
DTSTAMP:20260420T040631
CREATED:20250813T142428Z
LAST-MODIFIED:20250813T142428Z
UID:4320-1757325600-1757336400@quickstartmedweightloss.com
SUMMARY:Center Open
DESCRIPTION:
URL:https://quickstartmedweightloss.com/event/center-open-583/
END:VEVENT
BEGIN:VEVENT
DTSTART;TZID=UTC:20250909T100000
DTEND;TZID=UTC:20250909T173000
DTSTAMP:20260420T040631
CREATED:20250813T142524Z
LAST-MODIFIED:20250813T142524Z
UID:4322-1757412000-1757439000@quickstartmedweightloss.com
SUMMARY:Center Open
DESCRIPTION:
URL:https://quickstartmedweightloss.com/event/center-open-584/
END:VEVENT
BEGIN:VEVENT
DTSTART;TZID=UTC:20250911T100000
DTEND;TZID=UTC:20250911T173000
DTSTAMP:20260420T040631
CREATED:20250813T142604Z
LAST-MODIFIED:20250813T142623Z
UID:4324-1757584800-1757611800@quickstartmedweightloss.com
SUMMARY:Center Open
DESCRIPTION:
URL:https://quickstartmedweightloss.com/event/center-open-585/
END:VEVENT
BEGIN:VEVENT
DTSTART;TZID=UTC:20250912T100000
DTEND;TZID=UTC:20250912T173000
DTSTAMP:20260420T040631
CREATED:20250813T142705Z
LAST-MODIFIED:20250813T142705Z
UID:4326-1757671200-1757698200@quickstartmedweightloss.com
SUMMARY:Center Open
DESCRIPTION:
URL:https://quickstartmedweightloss.com/event/center-open-586/
END:VEVENT
BEGIN:VEVENT
DTSTART;TZID=UTC:20250916T100000
DTEND;TZID=UTC:20250916T173000
DTSTAMP:20260420T040631
CREATED:20250813T142734Z
LAST-MODIFIED:20250813T142734Z
UID:4328-1758016800-1758043800@quickstartmedweightloss.com
SUMMARY:Center Open
DESCRIPTION:
URL:https://quickstartmedweightloss.com/event/center-open-587/
END:VEVENT
BEGIN:VEVENT
DTSTART;TZID=UTC:20250917T090000
DTEND;TZID=UTC:20250917T130000
DTSTAMP:20260420T040631
CREATED:20250813T142806Z
LAST-MODIFIED:20250813T142806Z
UID:4330-1758099600-1758114000@quickstartmedweightloss.com
SUMMARY:Center Open
DESCRIPTION:
URL:https://quickstartmedweightloss.com/event/center-open-588/
END:VEVENT
BEGIN:VEVENT
DTSTART;TZID=UTC:20250923T100000
DTEND;TZID=UTC:20250923T173000
DTSTAMP:20260420T040631
CREATED:20250813T142910Z
LAST-MODIFIED:20250813T142910Z
UID:4332-1758621600-1758648600@quickstartmedweightloss.com
SUMMARY:Center Open
DESCRIPTION:
URL:https://quickstartmedweightloss.com/event/center-open-589/
END:VEVENT
BEGIN:VEVENT
DTSTART;TZID=UTC:20250924T090000
DTEND;TZID=UTC:20250924T130000
DTSTAMP:20260420T040631
CREATED:20250813T142950Z
LAST-MODIFIED:20250813T142950Z
UID:4334-1758704400-1758718800@quickstartmedweightloss.com
SUMMARY:Center Open
DESCRIPTION:
URL:https://quickstartmedweightloss.com/event/center-open-590/
END:VEVENT
BEGIN:VEVENT
DTSTART;TZID=UTC:20250926T130000
DTEND;TZID=UTC:20250926T173000
DTSTAMP:20260420T040631
CREATED:20250813T143049Z
LAST-MODIFIED:20250813T143049Z
UID:4336-1758891600-1758907800@quickstartmedweightloss.com
SUMMARY:Center Open
DESCRIPTION:
URL:https://quickstartmedweightloss.com/event/center-open-591/
END:VEVENT
BEGIN:VEVENT
DTSTART;TZID=UTC:20250928T110000
DTEND;TZID=UTC:20250928T170000
DTSTAMP:20260420T040631
CREATED:20250813T143121Z
LAST-MODIFIED:20250813T143121Z
UID:4338-1759057200-1759078800@quickstartmedweightloss.com
SUMMARY:Center Open
DESCRIPTION:
URL:https://quickstartmedweightloss.com/event/center-open-592/
END:VEVENT
BEGIN:VEVENT
DTSTART;TZID=UTC:20250930T100000
DTEND;TZID=UTC:20250930T173000
DTSTAMP:20260420T040631
CREATED:20250813T143149Z
LAST-MODIFIED:20250813T143149Z
UID:4340-1759226400-1759253400@quickstartmedweightloss.com
SUMMARY:Center Open
DESCRIPTION:
URL:https://quickstartmedweightloss.com/event/center-open-593/
END:VEVENT
END:VCALENDAR