BEGIN:VCALENDAR
VERSION:2.0
PRODID:-//Quick Start Weight Loss & Wellness Center - ECPv6.15.20//NONSGML v1.0//EN
CALSCALE:GREGORIAN
METHOD:PUBLISH
X-ORIGINAL-URL:https://quickstartmedweightloss.com
X-WR-CALDESC:Events for Quick Start Weight Loss & Wellness Center
REFRESH-INTERVAL;VALUE=DURATION:PT1H
X-Robots-Tag:noindex
X-PUBLISHED-TTL:PT1H
BEGIN:VTIMEZONE
TZID:UTC
BEGIN:STANDARD
TZOFFSETFROM:+0000
TZOFFSETTO:+0000
TZNAME:UTC
DTSTART:20240101T000000
END:STANDARD
END:VTIMEZONE
BEGIN:VEVENT
DTSTART;TZID=UTC:20251104T100000
DTEND;TZID=UTC:20251104T173000
DTSTAMP:20260420T010701
CREATED:20251014T155039Z
LAST-MODIFIED:20251014T155039Z
UID:4393-1762250400-1762277400@quickstartmedweightloss.com
SUMMARY:Center Open
DESCRIPTION:
URL:https://quickstartmedweightloss.com/event/center-open-605/
END:VEVENT
BEGIN:VEVENT
DTSTART;TZID=UTC:20251106T130000
DTEND;TZID=UTC:20251106T180000
DTSTAMP:20260420T010701
CREATED:20251014T155114Z
LAST-MODIFIED:20251014T155114Z
UID:4395-1762434000-1762452000@quickstartmedweightloss.com
SUMMARY:Center Open
DESCRIPTION:
URL:https://quickstartmedweightloss.com/event/center-open-610/
END:VEVENT
BEGIN:VEVENT
DTSTART;TZID=UTC:20251107T100000
DTEND;TZID=UTC:20251107T173000
DTSTAMP:20260420T010701
CREATED:20251014T155157Z
LAST-MODIFIED:20251014T155157Z
UID:4397-1762509600-1762536600@quickstartmedweightloss.com
SUMMARY:Center Open
DESCRIPTION:
URL:https://quickstartmedweightloss.com/event/center-open-611/
END:VEVENT
BEGIN:VEVENT
DTSTART;TZID=UTC:20251110T090000
DTEND;TZID=UTC:20251110T130000
DTSTAMP:20260420T010701
CREATED:20251104T205814Z
LAST-MODIFIED:20251104T205814Z
UID:4420-1762765200-1762779600@quickstartmedweightloss.com
SUMMARY:Center Open
DESCRIPTION:
URL:https://quickstartmedweightloss.com/event/center-open-620/
END:VEVENT
BEGIN:VEVENT
DTSTART;TZID=UTC:20251111T080000
DTEND;TZID=UTC:20251111T160000
DTSTAMP:20260420T010701
CREATED:20251104T205906Z
LAST-MODIFIED:20251104T205906Z
UID:4422-1762848000-1762876800@quickstartmedweightloss.com
SUMMARY:Center Open
DESCRIPTION:
URL:https://quickstartmedweightloss.com/event/center-open-621/
END:VEVENT
BEGIN:VEVENT
DTSTART;TZID=UTC:20251113T130000
DTEND;TZID=UTC:20251113T180000
DTSTAMP:20260420T010701
CREATED:20251014T155231Z
LAST-MODIFIED:20251014T155231Z
UID:4399-1763038800-1763056800@quickstartmedweightloss.com
SUMMARY:Center Open
DESCRIPTION:
URL:https://quickstartmedweightloss.com/event/center-open-612/
END:VEVENT
BEGIN:VEVENT
DTSTART;TZID=UTC:20251114T140000
DTEND;TZID=UTC:20251114T173000
DTSTAMP:20260420T010701
CREATED:20251014T155306Z
LAST-MODIFIED:20251105T175303Z
UID:4401-1763128800-1763141400@quickstartmedweightloss.com
SUMMARY:Center Open
DESCRIPTION:
URL:https://quickstartmedweightloss.com/event/center-open-613/
END:VEVENT
BEGIN:VEVENT
DTSTART;TZID=UTC:20251116T130000
DTEND;TZID=UTC:20251116T160000
DTSTAMP:20260420T010701
CREATED:20251014T155345Z
LAST-MODIFIED:20251104T210712Z
UID:4403-1763298000-1763308800@quickstartmedweightloss.com
SUMMARY:Center Open
DESCRIPTION:
URL:https://quickstartmedweightloss.com/event/center-open-614/
END:VEVENT
BEGIN:VEVENT
DTSTART;TZID=UTC:20251117T090000
DTEND;TZID=UTC:20251117T130000
DTSTAMP:20260420T010701
CREATED:20251104T210024Z
LAST-MODIFIED:20251104T210024Z
UID:4426-1763370000-1763384400@quickstartmedweightloss.com
SUMMARY:Center Open
DESCRIPTION:
URL:https://quickstartmedweightloss.com/event/center-open-623/
END:VEVENT
BEGIN:VEVENT
DTSTART;TZID=UTC:20251118T100000
DTEND;TZID=UTC:20251118T173000
DTSTAMP:20260420T010701
CREATED:20251014T155415Z
LAST-MODIFIED:20251014T155415Z
UID:4405-1763460000-1763487000@quickstartmedweightloss.com
SUMMARY:Center Open
DESCRIPTION:
URL:https://quickstartmedweightloss.com/event/center-open-615/
END:VEVENT
BEGIN:VEVENT
DTSTART;TZID=UTC:20251120T130000
DTEND;TZID=UTC:20251120T180000
DTSTAMP:20260420T010701
CREATED:20251014T155451Z
LAST-MODIFIED:20251014T155451Z
UID:4407-1763643600-1763661600@quickstartmedweightloss.com
SUMMARY:Center Open
DESCRIPTION:
URL:https://quickstartmedweightloss.com/event/center-open-616/
END:VEVENT
BEGIN:VEVENT
DTSTART;TZID=UTC:20251124T090000
DTEND;TZID=UTC:20251124T130000
DTSTAMP:20260420T010701
CREATED:20251104T210101Z
LAST-MODIFIED:20251104T210101Z
UID:4428-1763974800-1763989200@quickstartmedweightloss.com
SUMMARY:Center Open
DESCRIPTION:
URL:https://quickstartmedweightloss.com/event/center-open-624/
END:VEVENT
BEGIN:VEVENT
DTSTART;TZID=UTC:20251125T100000
DTEND;TZID=UTC:20251125T173000
DTSTAMP:20260420T010701
CREATED:20251014T155554Z
LAST-MODIFIED:20251014T155554Z
UID:4411-1764064800-1764091800@quickstartmedweightloss.com
SUMMARY:Center Open
DESCRIPTION:
URL:https://quickstartmedweightloss.com/event/center-open-618/
END:VEVENT
BEGIN:VEVENT
DTSTART;TZID=UTC:20251128T130000
DTEND;TZID=UTC:20251128T163000
DTSTAMP:20260420T010701
CREATED:20251014T155631Z
LAST-MODIFIED:20251014T155631Z
UID:4413-1764334800-1764347400@quickstartmedweightloss.com
SUMMARY:Center Open
DESCRIPTION:
URL:https://quickstartmedweightloss.com/event/center-open-619/
END:VEVENT
END:VCALENDAR