BEGIN:VCALENDAR
VERSION:2.0
PRODID:-//Quick Start Weight Loss & Wellness Center - ECPv6.15.20//NONSGML v1.0//EN
CALSCALE:GREGORIAN
METHOD:PUBLISH
X-WR-CALNAME:Quick Start Weight Loss & Wellness Center
X-ORIGINAL-URL:https://quickstartmedweightloss.com
X-WR-CALDESC:Events for Quick Start Weight Loss & Wellness Center
REFRESH-INTERVAL;VALUE=DURATION:PT1H
X-Robots-Tag:noindex
X-PUBLISHED-TTL:PT1H
BEGIN:VTIMEZONE
TZID:UTC
BEGIN:STANDARD
TZOFFSETFROM:+0000
TZOFFSETTO:+0000
TZNAME:UTC
DTSTART:20250101T000000
END:STANDARD
END:VTIMEZONE
BEGIN:VEVENT
DTSTART;TZID=UTC:20260301T110000
DTEND;TZID=UTC:20260301T143000
DTSTAMP:20260419T191959
CREATED:20260217T174350Z
LAST-MODIFIED:20260217T174350Z
UID:4548-1772362800-1772375400@quickstartmedweightloss.com
SUMMARY:Center Open
DESCRIPTION:
URL:https://quickstartmedweightloss.com/event/center-open-677/
END:VEVENT
BEGIN:VEVENT
DTSTART;TZID=UTC:20260302T100000
DTEND;TZID=UTC:20260302T130000
DTSTAMP:20260419T191959
CREATED:20260217T174431Z
LAST-MODIFIED:20260217T174431Z
UID:4550-1772445600-1772456400@quickstartmedweightloss.com
SUMMARY:Center Open
DESCRIPTION:
URL:https://quickstartmedweightloss.com/event/center-open-678/
END:VEVENT
BEGIN:VEVENT
DTSTART;TZID=UTC:20260303T100000
DTEND;TZID=UTC:20260303T173000
DTSTAMP:20260419T191959
CREATED:20260217T174649Z
LAST-MODIFIED:20260217T174649Z
UID:4552-1772532000-1772559000@quickstartmedweightloss.com
SUMMARY:Center Open
DESCRIPTION:
URL:https://quickstartmedweightloss.com/event/center-open-679/
END:VEVENT
BEGIN:VEVENT
DTSTART;TZID=UTC:20260304T120000
DTEND;TZID=UTC:20260304T173000
DTSTAMP:20260419T191959
CREATED:20260307T220456Z
LAST-MODIFIED:20260307T220456Z
UID:4697-1772625600-1772645400@quickstartmedweightloss.com
SUMMARY:Center Open
DESCRIPTION:
URL:https://quickstartmedweightloss.com/event/center-open-660/
END:VEVENT
BEGIN:VEVENT
DTSTART;TZID=UTC:20260306T100000
DTEND;TZID=UTC:20260306T173000
DTSTAMP:20260419T191959
CREATED:20260217T174805Z
LAST-MODIFIED:20260217T174805Z
UID:4556-1772791200-1772818200@quickstartmedweightloss.com
SUMMARY:Center Open
DESCRIPTION:
URL:https://quickstartmedweightloss.com/event/center-open-681/
END:VEVENT
BEGIN:VEVENT
DTSTART;TZID=UTC:20260309T100000
DTEND;TZID=UTC:20260309T130000
DTSTAMP:20260419T191959
CREATED:20260217T174846Z
LAST-MODIFIED:20260217T174846Z
UID:4558-1773050400-1773061200@quickstartmedweightloss.com
SUMMARY:Center Open
DESCRIPTION:
URL:https://quickstartmedweightloss.com/event/center-open-682/
END:VEVENT
BEGIN:VEVENT
DTSTART;TZID=UTC:20260310T100000
DTEND;TZID=UTC:20260310T173000
DTSTAMP:20260419T191959
CREATED:20260217T174925Z
LAST-MODIFIED:20260217T174925Z
UID:4560-1773136800-1773163800@quickstartmedweightloss.com
SUMMARY:Center Open
DESCRIPTION:
URL:https://quickstartmedweightloss.com/event/center-open-683/
END:VEVENT
BEGIN:VEVENT
DTSTART;TZID=UTC:20260311T120000
DTEND;TZID=UTC:20260311T173000
DTSTAMP:20260419T191959
CREATED:20260307T220542Z
LAST-MODIFIED:20260307T220542Z
UID:4699-1773230400-1773250200@quickstartmedweightloss.com
SUMMARY:Center Open
DESCRIPTION:
URL:https://quickstartmedweightloss.com/event/center-open-661/
END:VEVENT
BEGIN:VEVENT
DTSTART;VALUE=DATE:20260313
DTEND;VALUE=DATE:20260314
DTSTAMP:20260419T191959
CREATED:20260217T175053Z
LAST-MODIFIED:20260312T155634Z
UID:4564-1773360000-1773446399@quickstartmedweightloss.com
SUMMARY:CLOSED
DESCRIPTION:
URL:https://quickstartmedweightloss.com/event/center-open-685/
END:VEVENT
BEGIN:VEVENT
DTSTART;VALUE=DATE:20260315
DTEND;VALUE=DATE:20260316
DTSTAMP:20260419T191959
CREATED:20260217T175138Z
LAST-MODIFIED:20260312T155528Z
UID:4566-1773532800-1773619199@quickstartmedweightloss.com
SUMMARY:CLOSED
DESCRIPTION:
URL:https://quickstartmedweightloss.com/event/center-open-686/
END:VEVENT
BEGIN:VEVENT
DTSTART;TZID=UTC:20260316T100000
DTEND;TZID=UTC:20260316T130000
DTSTAMP:20260419T191959
CREATED:20260217T175216Z
LAST-MODIFIED:20260217T175216Z
UID:4568-1773655200-1773666000@quickstartmedweightloss.com
SUMMARY:Center Open
DESCRIPTION:
URL:https://quickstartmedweightloss.com/event/center-open-687/
END:VEVENT
BEGIN:VEVENT
DTSTART;TZID=UTC:20260317T100000
DTEND;TZID=UTC:20260317T173000
DTSTAMP:20260419T191959
CREATED:20260217T175253Z
LAST-MODIFIED:20260217T175253Z
UID:4570-1773741600-1773768600@quickstartmedweightloss.com
SUMMARY:Center Open
DESCRIPTION:
URL:https://quickstartmedweightloss.com/event/center-open-688/
END:VEVENT
BEGIN:VEVENT
DTSTART;TZID=UTC:20260318T120000
DTEND;TZID=UTC:20260318T173000
DTSTAMP:20260419T191959
CREATED:20260307T220624Z
LAST-MODIFIED:20260307T220624Z
UID:4701-1773835200-1773855000@quickstartmedweightloss.com
SUMMARY:Center Open
DESCRIPTION:
URL:https://quickstartmedweightloss.com/event/center-open-662/
END:VEVENT
BEGIN:VEVENT
DTSTART;TZID=UTC:20260323T100000
DTEND;TZID=UTC:20260323T130000
DTSTAMP:20260419T191959
CREATED:20260217T175453Z
LAST-MODIFIED:20260217T175453Z
UID:4576-1774260000-1774270800@quickstartmedweightloss.com
SUMMARY:Center Open
DESCRIPTION:
URL:https://quickstartmedweightloss.com/event/center-open-691/
END:VEVENT
BEGIN:VEVENT
DTSTART;TZID=UTC:20260330T100000
DTEND;TZID=UTC:20260330T130000
DTSTAMP:20260419T191959
CREATED:20260217T175528Z
LAST-MODIFIED:20260217T175528Z
UID:4578-1774864800-1774875600@quickstartmedweightloss.com
SUMMARY:Center Open
DESCRIPTION:
URL:https://quickstartmedweightloss.com/event/center-open-692/
END:VEVENT
BEGIN:VEVENT
DTSTART;TZID=UTC:20260331T100000
DTEND;TZID=UTC:20260331T173000
DTSTAMP:20260419T191959
CREATED:20260217T175601Z
LAST-MODIFIED:20260217T175601Z
UID:4580-1774951200-1774978200@quickstartmedweightloss.com
SUMMARY:Center Open
DESCRIPTION:
URL:https://quickstartmedweightloss.com/event/center-open-693/
END:VEVENT
END:VCALENDAR